BEGIN:VCALENDAR
PRODID:-//github.com/rianjs/ical.net//NONSGML ical.net 4.0//EN
VERSION:2.0
BEGIN:VEVENT
DESCRIPTION:Wozu bedarf es überhaupt Brücken im Kölner Radverkehrsnetz auf
  Fuß- und Radwege-Verbindungen?\nhttps://touren-termine.adfc.de/radverans
 taltung/195544-kolner-bruckentour
DTEND:20260416T120000Z
DTSTAMP:20260423T151639Z
DTSTART:20260416T080000Z
LOCATION:Ottoplatz 2\, 50679 Köln
SEQUENCE:0
SUMMARY:Kölner Brücken-Tour
UID:c6de25ea-cd75-4343-9d94-cce980ebd3aa
URL:https://touren-termine.adfc.de/radveranstaltung/195544-kolner-bruckent
 our
END:VEVENT
END:VCALENDAR
