BEGIN:VCALENDAR
PRODID:-//github.com/rianjs/ical.net//NONSGML ical.net 4.0//EN
VERSION:2.0
BEGIN:VEVENT
DESCRIPTION:Niemand ist perfekt\, das Radwegesystem in Cuxhaven schon gar 
 nicht!\nWir unterhalten uns über alle Dinge rund ums Fahrrad und nehmen W
 ünsche und Anregungen an.\nhttps://touren-termine.adfc.de/radveranstaltun
 g/142259-kaffeestunde
DTEND:20250721T150000Z
DTSTAMP:20260421T022617Z
DTSTART:20250721T130000Z
LOCATION:Bürgerbahnhof\, Am Bahnhof 1\, 27472 Cuxhaven
SEQUENCE:0
SUMMARY:Kaffeestunde
UID:ecb6db1c-1c8e-4e01-aa93-b0adf5abd936
URL:https://touren-termine.adfc.de/radveranstaltung/142259-kaffeestunde
END:VEVENT
END:VCALENDAR
