BEGIN:VCALENDAR
PRODID:-//github.com/rianjs/ical.net//NONSGML ical.net 4.0//EN
VERSION:2.0
BEGIN:VEVENT
DESCRIPTION:Geschichts-Tour für Neubürger und weitere Wissbegierige durch 
 die Moorwegsiedlung.\nhttps://touren-termine.adfc.de/radveranstaltung/914
 38-neugierig-geschichtstour-moorwegsiedlung
DTEND:20230625T130000Z
DTSTAMP:20260419T182028Z
DTSTART:20230625T090000Z
LOCATION:S-Bahnhof Wedel\, 22880 Wedel
SEQUENCE:0
SUMMARY:Neu(gierig)? Geschichtstour Moorwegsiedlung
UID:84e576b5-fbc4-45ba-95e5-925f8b399ebb
URL:https://touren-termine.adfc.de/radveranstaltung/91438-neugierig-geschi
 chtstour-moorwegsiedlung
END:VEVENT
END:VCALENDAR
