BEGIN:VCALENDAR
PRODID:-//github.com/rianjs/ical.net//NONSGML ical.net 4.0//EN
VERSION:2.0
BEGIN:VEVENT
DESCRIPTION:Rauf aufs Rad für eine Spritztour in die Umgebung von Gauting!
 \nWöchentlich wechselnd naturkundliche Touren und Cappuccino-Touren.\nhtt
 ps://touren-termine.adfc.de/radveranstaltung/188102-wochentliche-nachmitt
 agstour-in-gauting
DTEND:20260609T150000Z
DTSTAMP:20260425T150912Z
DTSTART:20260609T120000Z
LOCATION:Rathaus\, Bahnhofstraße 7\, 82131 Gauting
SEQUENCE:0
SUMMARY:Wöchentliche Nachmittagstour in Gauting
UID:88cc0b55-b3c2-4a09-85c3-4f9a59474da1
URL:https://touren-termine.adfc.de/radveranstaltung/188102-wochentliche-na
 chmittagstour-in-gauting
END:VEVENT
END:VCALENDAR
