BEGIN:VCALENDAR
PRODID:-//github.com/rianjs/ical.net//NONSGML ical.net 4.0//EN
VERSION:2.0
BEGIN:VEVENT
DESCRIPTION:Auf Täves Spuren\nhttps://touren-termine.adfc.de/radveranstalt
 ung/118267-friedensfahrtmuseum-klein-muhlingen
DTEND:20240602T150000Z
DTSTAMP:20260421T103253Z
DTSTART:20240602T071500Z
LOCATION:MD-Hbf\, Willy-Brandt-Platz\, 39104 Magdeburg
SEQUENCE:0
SUMMARY:Friedensfahrtmuseum Klein Mühlingen
UID:daf16388-f661-4610-9428-17f568dfbbe1
URL:https://touren-termine.adfc.de/radveranstaltung/118267-friedensfahrtmu
 seum-klein-muhlingen
END:VEVENT
END:VCALENDAR
