BEGIN:VCALENDAR
PRODID:-//github.com/rianjs/ical.net//NONSGML ical.net 4.0//EN
VERSION:2.0
BEGIN:VEVENT
DESCRIPTION:Eine von mehreren Touren\, die von verschiedenen Startpunkten 
 anlässlich des 30. Geburtstages des Landkreises Oberhavel als Sternfahrt 
 angeboten werden.\nhttps://touren-termine.adfc.de/radveranstaltung/103351
 -stadtradelnabschluss-rund-um-oranienburg
DTEND:20230923T103000Z
DTSTAMP:20260425T231913Z
DTSTART:20230923T080000Z
LOCATION:Schloßplatz 2\, 16515 Oranienburg
SEQUENCE:0
SUMMARY:Stadtradeln-Abschluss: Rund um Oranienburg
UID:63b1da77-e60e-49b3-8efe-af84e52488ed
URL:https://touren-termine.adfc.de/radveranstaltung/103351-stadtradelnabsc
 hluss-rund-um-oranienburg
END:VEVENT
END:VCALENDAR
