BEGIN:VCALENDAR
PRODID:-//github.com/rianjs/ical.net//NONSGML ical.net 4.0//EN
VERSION:2.0
BEGIN:VEVENT
DESCRIPTION:Am Dienstag fahren zum Auslüften eine Runde in die Umgebung vo
 n Münster. Vom Servatiiplatz zeige ich euch schöne leicht zu bewältigende
  Strecken wie ein Kleeblatt immer in eine andere Richtung...\nhttps://tou
 ren-termine.adfc.de/radveranstaltung/119783-kleeblatttour
DTEND:20240618T190000Z
DTSTAMP:20260420T173627Z
DTSTART:20240618T160000Z
LOCATION:Servatiiplatz\, 48143 Münster
SEQUENCE:0
SUMMARY:Kleeblatt-Tour
UID:6d5f3e60-6070-4cd5-8747-748e579fa1d5
URL:https://touren-termine.adfc.de/radveranstaltung/119783-kleeblatttour
END:VEVENT
END:VCALENDAR
