BEGIN:VCALENDAR
PRODID:-//github.com/rianjs/ical.net//NONSGML ical.net 4.0//EN
VERSION:2.0
BEGIN:VEVENT
DESCRIPTION:Seit über 10 Jahren geplant\, immer noch nicht realisiert - de
 r Radweg an der L426 von Elsheim nach Ober-Olm. Bündnis 90/Die Grünen Ess
 enheim laden ein zur Fahrrad-Demo\, um den Radweg zu fordern.\nhttps://to
 uren-termine.adfc.de/radveranstaltung/139395-fahrraddemo-zum-radweg-an-de
 r-l426
DTEND:20240929T140000Z
DTSTAMP:20260421T155749Z
DTSTART:20240929T120000Z
LOCATION:Dorfparkplatz\, Mainzer Straße 2\, Elsheim\, 55271 Landkreis Main
 z-Bingen
SEQUENCE:0
SUMMARY:Fahrrad-Demo zum Radweg an der L426
UID:0153890a-7f09-4299-815a-75d5173d3420
URL:https://touren-termine.adfc.de/radveranstaltung/139395-fahrraddemo-zum
 -radweg-an-der-l426
END:VEVENT
END:VCALENDAR
