BEGIN:VCALENDAR
PRODID:-//github.com/rianjs/ical.net//NONSGML ical.net 4.0//EN
VERSION:2.0
BEGIN:VEVENT
DESCRIPTION:Über Stock und Stein am Abend? Das bieten wir bei unseren MTB-
 Feierabendtouren rund um Bietigheim-Bissingen.\nhttps://touren-termine.ad
 fc.de/radveranstaltung/116749-bietigheimbissinger-mountainbikefeierabendt
 ouren
DTEND:20240522T190000Z
DTSTAMP:20260425T194724Z
DTSTART:20240522T163000Z
LOCATION:Enzpavillon\, 74321 Bietigheim-Bissingen
SEQUENCE:0
SUMMARY:Bietigheim-Bissinger Mountainbike-Feierabendtouren
UID:1c33420a-3e67-4d6a-b3fd-675158b17914
URL:https://touren-termine.adfc.de/radveranstaltung/116749-bietigheimbissi
 nger-mountainbikefeierabendtouren
END:VEVENT
END:VCALENDAR
