BEGIN:VCALENDAR
PRODID:-//github.com/rianjs/ical.net//NONSGML ical.net 4.0//EN
VERSION:2.0
BEGIN:VEVENT
DESCRIPTION:Spontantour mit wechselnden Tourenleiter. \nBitte anmelden\nht
 tps://touren-termine.adfc.de/radveranstaltung/139382-nachmittagstour-in-h
 erborn
DTEND:20250715T150000Z
DTSTAMP:20260424T170756Z
DTSTART:20250715T120000Z
LOCATION:Marktplatz\, 35745 Herborn
SEQUENCE:0
SUMMARY:Nachmittagstour in Herborn
UID:09e867e2-10f6-4335-af68-e7587a770e78
URL:https://touren-termine.adfc.de/radveranstaltung/139382-nachmittagstour
 -in-herborn
END:VEVENT
END:VCALENDAR
