BEGIN:VCALENDAR
PRODID:-//github.com/rianjs/ical.net//NONSGML ical.net 4.0//EN
VERSION:2.0
BEGIN:VEVENT
DESCRIPTION:75 bis 80 km\,18-20 km/h\, Start: 10:00 Uhr\, 24.05.2025\, ab 
 Wickrath (Bahnhofsvorplatz) über Holzweiler\, Baal (Einkehrmöglichkeit)\,
  Rurtal\, Erkelenz zurück nach Wickrath.\nhttps://touren-termine.adfc.de/
 radveranstaltung/165715-wickrath-baal-rurtal-erkelenz-wickrath
DTEND:20250524T140000Z
DTSTAMP:20260420T230759Z
DTSTART:20250524T080000Z
LOCATION:Bahnhofsplatz\, 41189 Mönchengladbach
SEQUENCE:0
SUMMARY:Wickrath - Baal - Rurtal - Erkelenz - Wickrath
UID:1520abdc-f2ac-4039-96d6-b7f0fa9060a4
URL:https://touren-termine.adfc.de/radveranstaltung/165715-wickrath-baal-r
 urtal-erkelenz-wickrath
END:VEVENT
END:VCALENDAR
