BEGIN:VCALENDAR
PRODID:-//github.com/rianjs/ical.net//NONSGML ical.net 4.0//EN
VERSION:2.0
BEGIN:VEVENT
DESCRIPTION:Radschnellwege? Gestoppt! Fahrradparkhäuser? Gestoppt! Dringen
 d benötigte Radwege? Gestoppt! Nicht mit uns! Am 8. September demonstrier
 en wir mit einer Fahrradsternfahrt.\nhttps://touren-termine.adfc.de/radve
 ranstaltung/138751-demo-radwegestopp-nicht-mit-uns
DTEND;VALUE=DATE:20240908
DTSTAMP:20260421T233551Z
DTSTART;VALUE=DATE:20240908
LOCATION:Rotes Rathaus\, 10178 Berlin
SEQUENCE:0
SUMMARY:Demo: Radwegestopp? Nicht mit uns!
UID:37750155-7824-45e0-b211-ed7f313e1195
URL:https://touren-termine.adfc.de/radveranstaltung/138751-demo-radwegesto
 pp-nicht-mit-uns
END:VEVENT
END:VCALENDAR
