BEGIN:VCALENDAR
PRODID:-//github.com/rianjs/ical.net//NONSGML ical.net 4.0//EN
VERSION:2.0
BEGIN:VEVENT
DESCRIPTION:Einfache Feierabend - Radtouren rund um Stadthagen. Jeder\, id
 eal auch für Einsteiger\, der ein verkehrssicheres Fahrrad besitzt und si
 ch auf dem Fahrrad wohlfühlt\, kann gerne teilnehmen.\nhttps://touren-ter
 mine.adfc.de/radveranstaltung/143232-mittwochsradeln-rund-um-stadthagen
DTEND:20250507T183000Z
DTSTAMP:20260420T173330Z
DTSTART:20250507T160000Z
LOCATION:Am Markt\, 31655 Stadthagen
SEQUENCE:0
SUMMARY:Mittwochsradeln rund um Stadthagen
UID:42f1ba4c-fc32-4d85-a394-b04ffd6f3d8e
URL:https://touren-termine.adfc.de/radveranstaltung/143232-mittwochsradeln
 -rund-um-stadthagen
END:VEVENT
END:VCALENDAR
