BEGIN:VCALENDAR
PRODID:-//github.com/rianjs/ical.net//NONSGML ical.net 4.0//EN
VERSION:2.0
BEGIN:VEVENT
DESCRIPTION:Du willst die Radfahrsituation in Korschenbroich verbessern? D
 ann bist du hier richtig.\nhttps://touren-termine.adfc.de/radveranstaltun
 g/155492-arbeitskreis-mobilitat-und-sicherheit
DTEND:20250220T193000Z
DTSTAMP:20260423T151926Z
DTSTART:20250220T173000Z
LOCATION:Don-Bosco-Strasse 4-6\, 41352 Korschenbroich
SEQUENCE:0
SUMMARY:Arbeitskreis Mobilität und Sicherheit
UID:51174948-79b6-4117-bef9-e4fe304a1398
URL:https://touren-termine.adfc.de/radveranstaltung/155492-arbeitskreis-mo
 bilitat-und-sicherheit
END:VEVENT
END:VCALENDAR
