BEGIN:VCALENDAR
PRODID:-//github.com/rianjs/ical.net//NONSGML ical.net 4.0//EN
VERSION:2.0
BEGIN:VEVENT
DESCRIPTION:Jeden Montag findet morgens eine Radtour statt.\nhttps://toure
 n-termine.adfc.de/radveranstaltung/158188-montag-morgen-tour
DTEND:20250331T100000Z
DTSTAMP:20260423T201711Z
DTSTART:20250331T080000Z
LOCATION:In der Ahe 29\, 27356 Rotenburg
SEQUENCE:0
SUMMARY:Montag Morgen Tour
UID:c731d0bc-0c6d-4b50-b85d-b3962431a7ee
URL:https://touren-termine.adfc.de/radveranstaltung/158188-montag-morgen-t
 our
END:VEVENT
END:VCALENDAR
