BEGIN:VCALENDAR
PRODID:-//github.com/rianjs/ical.net//NONSGML ical.net 4.0//EN
VERSION:2.0
BEGIN:VEVENT
DESCRIPTION:Stadtradeln 2025 (SR25) 20 x 20 km\nTour 15 von 20\nhttps://to
 uren-termine.adfc.de/radveranstaltung/165816-sr25t1523km-16001800-uhr
DTEND:20250602T160000Z
DTSTAMP:20260423T105809Z
DTSTART:20250602T140000Z
LOCATION:Fuhrberger Straße 4\, 30938 Burgwedel
SEQUENCE:0
SUMMARY:SR25-T15_23_km 16:00-18:00 Uhr
UID:1e4aefbb-ff3b-45dd-91a1-66a7f30e92b4
URL:https://touren-termine.adfc.de/radveranstaltung/165816-sr25t1523km-160
 01800-uhr
END:VEVENT
END:VCALENDAR
