BEGIN:VCALENDAR
PRODID:-//github.com/rianjs/ical.net//NONSGML ical.net 4.0//EN
VERSION:2.0
BEGIN:VEVENT
DESCRIPTION:Radverkehr in Bochum wächst – doch die Unfallzahlen sinken nic
 ht. Wo die Risiken liegen und wie gezielte Maßnahmen wie sichere Radwege 
 und Vision Zero die Sicherheit für alle verbessern können.\nhttps://toure
 n-termine.adfc.de/radveranstaltung/187457-vortrag-radverkehrssicherheit-s
 chnelle-losungen
DTEND:20260224T200000Z
DTSTAMP:20260420T150152Z
DTSTART:20260224T180000Z
LOCATION:Stühmeyerstraße 33\, 44787 Bochum
SEQUENCE:0
SUMMARY:Vortrag: Radverkehrssicherheit & schnelle Lösungen
UID:d9758623-d88e-4ef8-bc0d-4bf2d6e1d93a
URL:https://touren-termine.adfc.de/radveranstaltung/187457-vortrag-radverk
 ehrssicherheit-schnelle-losungen
END:VEVENT
END:VCALENDAR
