BEGIN:VCALENDAR
PRODID:-//github.com/rianjs/ical.net//NONSGML ical.net 4.0//EN
VERSION:2.0
BEGIN:VEVENT
DESCRIPTION:mit Biergarten\nhttps://touren-termine.adfc.de/radveranstaltun
 g/191809-tour-zur-historischen-sippelmuhle
DTEND:20260726T170000Z
DTSTAMP:20260425T020746Z
DTSTART:20260726T120000Z
LOCATION:Schauturm im LGS-Gelände \, Dr.-Kurz-Straße \, 92318 Neumarkt\, 9
 2318 Neumarkt in der Oberpfalz
SEQUENCE:0
SUMMARY:Tour zur historischen Sippelmühle
UID:79fe1303-605f-442f-898e-f9bb7413f82d
URL:https://touren-termine.adfc.de/radveranstaltung/191809-tour-zur-histor
 ischen-sippelmuhle
END:VEVENT
END:VCALENDAR
