BEGIN:VCALENDAR
PRODID:-//github.com/rianjs/ical.net//NONSGML ical.net 4.0//EN
VERSION:2.0
BEGIN:VEVENT
DESCRIPTION:Winterprogramm in Gauting: Eisbärtouren bei trockenem und schö
 nem Wetter von 11 bis 15 Uhr mit mittäglicher Einkehr.\nErste Tour im neu
 en Jahr: Über Buchenhain zum Isarhochufer\nhttps://touren-termine.adfc.de
 /radveranstaltung/159200-eisbartour-in-gauting
DTEND:20250306T140000Z
DTSTAMP:20260425T145410Z
DTSTART:20250306T100000Z
LOCATION:Rathaus\, Bahnhofstraße 7\, 82131 Gauting
SEQUENCE:0
SUMMARY:Eisbär-Tour in Gauting
UID:4e12e5f5-cb17-4ff7-b1a4-969cd8a6d602
URL:https://touren-termine.adfc.de/radveranstaltung/159200-eisbartour-in-g
 auting
END:VEVENT
END:VCALENDAR
