BEGIN:VCALENDAR
PRODID:-//github.com/rianjs/ical.net//NONSGML ical.net 4.0//EN
VERSION:2.0
BEGIN:VEVENT
DESCRIPTION:Von Schorndorf über Rudersberg nach Welzheim und über Lorch zu
 rück\nhttps://touren-termine.adfc.de/radveranstaltung/151802-eine-runde-v
 on-schorndorf-aus
DTEND:20250309T160000Z
DTSTAMP:20260424T143252Z
DTSTART:20250309T083500Z
LOCATION:Kegelenstraße 12\, 70372 Stuttgart
SEQUENCE:0
SUMMARY:Eine Runde von Schorndorf aus
UID:babf20b9-e70e-4b52-996a-496cfd227fc8
URL:https://touren-termine.adfc.de/radveranstaltung/151802-eine-runde-von-
 schorndorf-aus
END:VEVENT
END:VCALENDAR
