BEGIN:VCALENDAR
PRODID:-//github.com/rianjs/ical.net//NONSGML ical.net 4.0//EN
VERSION:2.0
BEGIN:VEVENT
DESCRIPTION:Über Freiham und das Würmtal fahren wir zur Einkehr in der Sch
 ießstätte Allach. Stationen auf dem Rückweg sind die Eisenkapelle\, der L
 ußsee (Badegelegenheit)\,  Hofreiter Beerencafé\, ....\nhttps://touren-te
 rmine.adfc.de/radveranstaltung/188416-schiessstatte-allach
DTEND:20260627T170000Z
DTSTAMP:20260425T145837Z
DTSTART:20260627T083000Z
LOCATION:Marktplatz\, 82205 Gilching
SEQUENCE:0
SUMMARY:Schießstätte Allach
UID:403a4fb6-521d-486e-a134-ca1830a3c034
URL:https://touren-termine.adfc.de/radveranstaltung/188416-schiessstatte-a
 llach
END:VEVENT
END:VCALENDAR
