BEGIN:VCALENDAR
PRODID:-//github.com/rianjs/ical.net//NONSGML ical.net 4.0//EN
VERSION:2.0
BEGIN:VEVENT
DESCRIPTION:eine "boarsiche Runde": Weißwürste in Andechs\, Biergarten in 
 Bruck ......... und dazwischen "a burtio Radlfahren"\nhttps://touren-term
 ine.adfc.de/radveranstaltung/124149-der-heilige-berg-ruft
DTEND:20240630T160000Z
DTSTAMP:20260421T100752Z
DTSTART:20240630T074500Z
LOCATION:Bike & Ride Fahrradparkhaus\, 85221 Dachau
SEQUENCE:0
SUMMARY:Der heilige Berg ruft
UID:5becda09-a889-42ec-b711-685c10964dd1
URL:https://touren-termine.adfc.de/radveranstaltung/124149-der-heilige-ber
 g-ruft
END:VEVENT
END:VCALENDAR
