BEGIN:VCALENDAR
PRODID:-//github.com/rianjs/ical.net//NONSGML ical.net 4.0//EN
VERSION:2.0
BEGIN:VEVENT
DESCRIPTION:Schattige Radtour ab Haßloch zum Stadtradeln des Landkreises B
 ad Dürkheim\nhttps://touren-termine.adfc.de/radveranstaltung/102679-schat
 tige-tour-zum-stadtradeln
DTEND:20230715T150000Z
DTSTAMP:20260425T173447Z
DTSTART:20230715T120000Z
LOCATION:Rathausplatz\, 67454 Haßloch
SEQUENCE:0
SUMMARY:Schattige Tour zum Stadtradeln
UID:cf96d743-2bea-4e3d-b987-c9f3569153b8
URL:https://touren-termine.adfc.de/radveranstaltung/102679-schattige-tour-
 zum-stadtradeln
END:VEVENT
END:VCALENDAR
