BEGIN:VCALENDAR
PRODID:-//github.com/rianjs/ical.net//NONSGML ical.net 4.0//EN
VERSION:2.0
BEGIN:VEVENT
DESCRIPTION:Unsere Geschäftsstelle ist für alle Anliegen und offenen Frage
 n geöffnet.\nhttps://touren-termine.adfc.de/radveranstaltung/183785-offnu
 ngszeit-unserer-geschaftsstelle
DTEND:20260123T170000Z
DTSTAMP:20260421T115750Z
DTSTART:20260123T150000Z
LOCATION:Essen (Innenstadt)\, ADFC Essen Geschäftsstelle\, Rottstraße 5\, 
 45127 Essen
SEQUENCE:0
SUMMARY:Öffnungszeit unserer Geschäftsstelle
UID:2a73f994-3920-4c6d-90b2-a147654f2071
URL:https://touren-termine.adfc.de/radveranstaltung/183785-offnungszeit-un
 serer-geschaftsstelle
END:VEVENT
END:VCALENDAR
