BEGIN:VCALENDAR
PRODID:-//github.com/rianjs/ical.net//NONSGML ical.net 4.0//EN
VERSION:2.0
BEGIN:VEVENT
DESCRIPTION:Mahnwache für die in Volksdorf getötete Radfahrerin\nhttps://t
 ouren-termine.adfc.de/radveranstaltung/131294-mahnwache-fur-getotete-radf
 ahrerin
DTEND:20240427T150000Z
DTSTAMP:20260421T024335Z
DTSTART:20240427T140000Z
LOCATION:Farmsener Landstraße 177\, 22359 Hamburg
SEQUENCE:0
SUMMARY:Mahnwache für getötete Radfahrerin
UID:bdec665b-5689-4d91-9c0d-d531a55ac337
URL:https://touren-termine.adfc.de/radveranstaltung/131294-mahnwache-fur-g
 etotete-radfahrerin
END:VEVENT
END:VCALENDAR
