BEGIN:VCALENDAR
PRODID:-//github.com/rianjs/ical.net//NONSGML ical.net 4.0//EN
VERSION:2.0
BEGIN:VEVENT
DESCRIPTION:Aus organisatorischen Gründen findet der Radlertreff im Novemb
 er und Dezember nicht statt.\nhttps://touren-termine.adfc.de/radveranstal
 tung/110425-stammtisch-radlertreff
DTEND:20231201T210000Z
DTSTAMP:20260423T201739Z
DTSTART:20231201T180000Z
LOCATION:Freudenthalstraße 15\, 27356 Rotenburg
SEQUENCE:0
SUMMARY:Stammtisch Radlertreff
UID:94931130-580a-4a5b-8561-6d90c1e6d1af
URL:https://touren-termine.adfc.de/radveranstaltung/110425-stammtisch-radl
 ertreff
END:VEVENT
END:VCALENDAR
