BEGIN:VCALENDAR
PRODID:-//github.com/rianjs/ical.net//NONSGML ical.net 4.0//EN
VERSION:2.0
BEGIN:VEVENT
DESCRIPTION:Wir bieten verschiedene Strecken zwischen 25 km und 35 km Läng
 e mit einer Fahrtdauer von ca. 2 Stunden an.\nhttps://touren-termine.adfc
 .de/radveranstaltung/144651-feierabendtour-adfcselbsthilfewerkstatt
DTEND:20250430T190000Z
DTSTAMP:20260420T083015Z
DTSTART:20250430T160000Z
LOCATION:ADFC-Selbsthilfewerkstatt\, Weinweg 2\, 93049 Regensburg
SEQUENCE:0
SUMMARY:Feierabendtour: ADFC-Selbsthilfewerkstatt
UID:0e028a83-1373-48f4-965c-45cebcee74ec
URL:https://touren-termine.adfc.de/radveranstaltung/144651-feierabendtour-
 adfcselbsthilfewerkstatt
END:VEVENT
END:VCALENDAR
