BEGIN:VCALENDAR
PRODID:-//github.com/rianjs/ical.net//NONSGML ical.net 4.0//EN
VERSION:2.0
BEGIN:VEVENT
DESCRIPTION:Bei der 4 Sternfahrt Siegen Wittgenstein treffen sich RadlerIn
 nen aus Siegen\, Berleburg und Kreuztal in der Skihütte Sohl.\nhttps://to
 uren-termine.adfc.de/radveranstaltung/152199-4-sternfahrt-siwi-sohl-vom-s
 tartort-siegen
DTEND:20250914T170000Z
DTSTAMP:20260423T031125Z
DTSTART:20250914T090000Z
LOCATION:Jakob-Scheiner-Platz\, 57072 Siegen
SEQUENCE:0
SUMMARY:4. Sternfahrt SiWi Sohl vom Startort Siegen
UID:c0867f2c-4460-4bef-a9a0-1ec28d8c6b7b
URL:https://touren-termine.adfc.de/radveranstaltung/152199-4-sternfahrt-si
 wi-sohl-vom-startort-siegen
END:VEVENT
END:VCALENDAR
