BEGIN:VCALENDAR
PRODID:-//github.com/rianjs/ical.net//NONSGML ical.net 4.0//EN
VERSION:2.0
BEGIN:VEVENT
DESCRIPTION:Wir sind mit einem ADFC-Stand auf dem Fahrradtag in Uelzen ver
 treten. Interessante Informationen und Aktionen rund ums Fahrradfahren er
 warten euch. Wir freuen uns auf euch.\nhttps://touren-termine.adfc.de/rad
 veranstaltung/192535-adfcstand-auf-dem-fahrradtag-in-uelzen
DTEND:20260620T130000Z
DTSTAMP:20260424T161650Z
DTSTART:20260620T090000Z
LOCATION:Herzogenplatz\, 29525 Uelzen
SEQUENCE:0
SUMMARY:ADFC-Stand auf dem Fahrradtag in Uelzen
UID:d3ae218c-548d-4d2a-87b0-11bfc87c8abb
URL:https://touren-termine.adfc.de/radveranstaltung/192535-adfcstand-auf-d
 em-fahrradtag-in-uelzen
END:VEVENT
END:VCALENDAR
