BEGIN:VCALENDAR
PRODID:-//github.com/rianjs/ical.net//NONSGML ical.net 4.0//EN
VERSION:2.0
BEGIN:VEVENT
DESCRIPTION:Tagestour zum Könighaus am Schachen\, ein besonderes Erlebnis\
 nhttps://touren-termine.adfc.de/radveranstaltung/178028-unescoweltkulture
 rbe-am-schachen-v-konig-ludwig-ii
DTEND:20260718T170000Z
DTSTAMP:20260425T151922Z
DTSTART:20260718T050000Z
LOCATION:Schelmenhofstraße\, 87600 Kaufbeuren
SEQUENCE:0
SUMMARY:UNESCOWeltkulturerbe am Schachen v König Ludwig II
UID:1dfde777-e02f-4702-b08a-02f81946a0b2
URL:https://touren-termine.adfc.de/radveranstaltung/178028-unescoweltkultu
 rerbe-am-schachen-v-konig-ludwig-ii
END:VEVENT
END:VCALENDAR
