BEGIN:VCALENDAR
PRODID:-//github.com/rianjs/ical.net//NONSGML ical.net 4.0//EN
VERSION:2.0
BEGIN:VEVENT
DESCRIPTION:Von Dreieich nach Schwanheim und bei Kelsterbach über den Main
 . Durch die Felder bei Hattersheim nach Hofheim. Anmeldung notwendig\nhtt
 ps://touren-termine.adfc.de/radveranstaltung/122798-zum-herrenhaus-bei-ho
 fheim
DTEND:20241013T143000Z
DTSTAMP:20260423T192436Z
DTSTART:20241013T080000Z
LOCATION:Lindenplatz\, 63303 Sprendlingen
SEQUENCE:0
SUMMARY:Zum Herrenhaus bei Hofheim
UID:66c38818-b952-491b-8164-e9f474c23833
URL:https://touren-termine.adfc.de/radveranstaltung/122798-zum-herrenhaus-
 bei-hofheim
END:VEVENT
END:VCALENDAR
