BEGIN:VCALENDAR
PRODID:-//github.com/rianjs/ical.net//NONSGML ical.net 4.0//EN
VERSION:2.0
BEGIN:VEVENT
DESCRIPTION:Vom Brandenburger Tor geht es über Pankow nach Frohnau\, weite
 r über Hennigsdorf und Spandau zur BVG-Fährstation in Alt-Kladow. Es gibt
  viele historische und ungewöhnliche Ecken Berlins zu entdecken.\nhttps:/
 /touren-termine.adfc.de/radveranstaltung/179818-der-mauerweg-zur-kirschbl
 ute-nordliche-route
DTEND:20260411T160000Z
DTSTAMP:20260424T190301Z
DTSTART:20260411T070000Z
LOCATION:S-/U-Bhf. Brandenburger Tor\, Pariser Platz\, südl. Brunnen\, 101
 17 Berlin
SEQUENCE:0
SUMMARY:Der Mauerweg zur Kirschblüte - nördliche Route
UID:ccdfbe95-98d3-402b-a6ef-a0c716e07098
URL:https://touren-termine.adfc.de/radveranstaltung/179818-der-mauerweg-zu
 r-kirschblute-nordliche-route
END:VEVENT
END:VCALENDAR
