BEGIN:VCALENDAR
PRODID:-//github.com/rianjs/ical.net//NONSGML ical.net 4.0//EN
VERSION:2.0
BEGIN:VEVENT
DESCRIPTION:Der Kreisverband Kempten-Oberallgäu und Böck & Bike bieten wie
 der Ü50 Pedelec-Fahrsicherheits-Trainingskurse an. \nFür mehr Spaß und Si
 cherheit auf dem Pedelec\nhttps://touren-termine.adfc.de/radveranstaltung
 /159557-pedelecfahrsicherheitstraining-u50
DTEND:20250518T123000Z
DTSTAMP:20260424T150327Z
DTSTART:20250518T070000Z
LOCATION:Verkehrsübungsplatz am Adenauerring auf der Höhe der Nordbrücke\,
  87437 Kempten (Allgäu)
SEQUENCE:0
SUMMARY:Pedelec-Fahrsicherheits-Training Ü50
UID:c268e0ab-c37e-47be-b49e-4a0274fb7e1d
URL:https://touren-termine.adfc.de/radveranstaltung/159557-pedelecfahrsich
 erheitstraining-u50
END:VEVENT
END:VCALENDAR
