BEGIN:VCALENDAR
PRODID:-//github.com/rianjs/ical.net//NONSGML ical.net 4.0//EN
VERSION:2.0
BEGIN:VEVENT
DESCRIPTION:besuchen Sie uns auf dem Zechenfest Zollverein\nhttps://touren
 -termine.adfc.de/radveranstaltung/139871-infostand-beim-zechenfest-zollve
 rein
DTEND:20240929T160000Z
DTSTAMP:20260421T103212Z
DTSTART:20240929T090000Z
LOCATION:Zeche Zollverein\, 45309 Essen
SEQUENCE:0
SUMMARY:Infostand beim Zechenfest Zollverein
UID:3a33b53f-4cb8-41ae-945a-94592df88de4
URL:https://touren-termine.adfc.de/radveranstaltung/139871-infostand-beim-
 zechenfest-zollverein
END:VEVENT
END:VCALENDAR
