BEGIN:VCALENDAR
PRODID:-//github.com/rianjs/ical.net//NONSGML ical.net 4.0//EN
VERSION:2.0
BEGIN:VEVENT
DESCRIPTION:Um 7.30 Start im Hammerseifen. Zügig  mit Pedelecs auf die Mar
 tinshard. Sonnenaufgang genießen. Wechsel zum Kindelsberg. Abfahrt über E
 ichenhof. Sonntagsstuten kaufen. Frühstück bei mir. Anmeldung!\nhttps://t
 ouren-termine.adfc.de/radveranstaltung/144622-sonnenaufgang-an-der-martin
 shardt
DTEND:20241130T093000Z
DTSTAMP:20260422T234503Z
DTSTART:20241130T063000Z
LOCATION:Zum Hammerseifen 13\, 57223 Kreuztal
SEQUENCE:0
SUMMARY:Sonnenaufgang an der Martinshardt
UID:3c217331-531f-44aa-b4ab-8a3032770f83
URL:https://touren-termine.adfc.de/radveranstaltung/144622-sonnenaufgang-a
 n-der-martinshardt
END:VEVENT
END:VCALENDAR
