BEGIN:VCALENDAR
PRODID:-//github.com/rianjs/ical.net//NONSGML ical.net 4.0//EN
VERSION:2.0
BEGIN:VEVENT
DESCRIPTION:Tourenleiter: Reinhold Lekschas\nhttps://touren-termine.adfc.d
 e/radveranstaltung/197660-feierabendtour-fahrt-ins-blaue
DTEND:20260715T183000Z
DTSTAMP:20260421T100715Z
DTSTART:20260715T160000Z
LOCATION:Schloßplatz\, 21423 Winsen (Luhe)
SEQUENCE:0
SUMMARY:Feierabendtour Fahrt ins Blaue
UID:f2224f91-1721-40a2-bc18-b4bfdfc71517
URL:https://touren-termine.adfc.de/radveranstaltung/197660-feierabendtour-
 fahrt-ins-blaue
END:VEVENT
END:VCALENDAR
