BEGIN:VCALENDAR
PRODID:-//github.com/rianjs/ical.net//NONSGML ical.net 4.0//EN
VERSION:2.0
BEGIN:VEVENT
DESCRIPTION:Bis zur Umstellung der Sommerzeit\, Ende Oktober\, starten wir
  jeden Dienstag um 18 Uhr vom Hildegardplatz in Kempten zu einer kleinen 
 Feierabendrunde. Wir freuen uns über alte und neue Teilnehmer.\nhttps://t
 ouren-termine.adfc.de/radveranstaltung/98220-feierabendradeln
DTEND:20230912T180000Z
DTSTAMP:20260424T144810Z
DTSTART:20230912T160000Z
LOCATION:Hildegardplatz\, 87435 Kempten (Allgäu)
SEQUENCE:0
SUMMARY:Feierabendradeln
UID:01f4b05e-4f2e-41a0-a0e6-81e9dade2b0d
URL:https://touren-termine.adfc.de/radveranstaltung/98220-feierabendradeln
END:VEVENT
END:VCALENDAR
