BEGIN:VCALENDAR
PRODID:-//github.com/rianjs/ical.net//NONSGML ical.net 4.0//EN
VERSION:2.0
BEGIN:VEVENT
DESCRIPTION:offen für interessierte Mitglieder und Gäste\nhttps://touren-t
 ermine.adfc.de/radveranstaltung/183885-offene-vorstandssitzung-des-adfc-e
 ssen
DTEND:20260206T203000Z
DTSTAMP:20260421T101153Z
DTSTART:20260206T173000Z
LOCATION:Essen (Innenstadt)\, ADFC Essen Geschäftsstelle\, Rottstraße 5\, 
 45127 Essen
SEQUENCE:0
SUMMARY:Offene Vorstandssitzung des ADFC Essen
UID:cb1dfcf0-e323-4f93-ae8d-dbf1f6581d95
URL:https://touren-termine.adfc.de/radveranstaltung/183885-offene-vorstand
 ssitzung-des-adfc-essen
END:VEVENT
END:VCALENDAR
