BEGIN:VCALENDAR
PRODID:-//github.com/rianjs/ical.net//NONSGML ical.net 4.0//EN
VERSION:2.0
BEGIN:VEVENT
DESCRIPTION:Von Frankfurt/O fahren wir weitgehend auf dem Oder-Radweg zur 
 barocken Klosteranlage Neuzelle.\nhttps://touren-termine.adfc.de/radveran
 staltung/166182-berliner-fahrradwoche-frankfurto-nach-neuzelle
DTEND:20250808T160000Z
DTSTAMP:20260424T144412Z
DTSTART:20250808T065000Z
LOCATION:Bhf. Berlin Friedrichstraße\, Reisezentrum\, 10117 Berlin
SEQUENCE:0
SUMMARY:Berliner Fahrradwoche: Frankfurt/O nach Neuzelle
UID:94bb18b5-535e-4dfb-82e2-9268ba0aaed9
URL:https://touren-termine.adfc.de/radveranstaltung/166182-berliner-fahrra
 dwoche-frankfurto-nach-neuzelle
END:VEVENT
END:VCALENDAR
