BEGIN:VCALENDAR
PRODID:-//github.com/rianjs/ical.net//NONSGML ical.net 4.0//EN
VERSION:2.0
BEGIN:VEVENT
DESCRIPTION:Der Start in die neue Radlsaison führt uns vom Jakobsplatz dur
 ch die idyllischen Flußtäler von Pegnitz\, Rednitz und über den Neuen Kan
 al (RMD-K) zurück zur ADFC-Geschäftsstelle.\nhttps://touren-termine.adfc.
 de/radveranstaltung/190839-eroffnungstour-in-den-westen
DTEND:20260411T133000Z
DTSTAMP:20260423T201730Z
DTSTART:20260411T110000Z
LOCATION:Nürnberg\, Am Weißen Turm\, 90403 Nürnberg
SEQUENCE:0
SUMMARY:Eröffnungstour: In den Westen
UID:67af7f6e-fcd9-49bf-948b-7d4e3154e104
URL:https://touren-termine.adfc.de/radveranstaltung/190839-eroffnungstour-
 in-den-westen
END:VEVENT
END:VCALENDAR
