BEGIN:VCALENDAR
PRODID:-//github.com/rianjs/ical.net//NONSGML ical.net 4.0//EN
VERSION:2.0
BEGIN:VEVENT
DESCRIPTION:1 Platz frei! Kaufbeuren - In diesem Fahrsicherheitskurs vermi
 tteln wir Dir alle Grundlagen\, die für das Fahren im leichten Gelände\, 
 besonders auf losen Untergrund notwendig sind. Anmeld.bis 09.05.25\nhttps
 ://touren-termine.adfc.de/radveranstaltung/147222-mit-dem-ebike-im-leicht
 en-gelande-level-3
DTEND:20250510T160000Z
DTSTAMP:20260419T155606Z
DTSTART:20250510T120000Z
LOCATION:Beim DAV-Kletterzentrum\, Buronstraße\, 87600 Kaufbeuren
SEQUENCE:0
SUMMARY:Mit dem E-Bike im leichten Gelände - Level 3
UID:04dcde8b-b0e4-4a12-ab02-cc55224120c7
URL:https://touren-termine.adfc.de/radveranstaltung/147222-mit-dem-ebike-i
 m-leichten-gelande-level-3
END:VEVENT
END:VCALENDAR
