BEGIN:VCALENDAR
PRODID:-//github.com/rianjs/ical.net//NONSGML ical.net 4.0//EN
VERSION:2.0
BEGIN:VEVENT
DESCRIPTION:Der ADFC Hamburg e.V. gibt Tipps zur Navigation und informiert
  über Radtouren sowie seine Arbeit\, speziell im Bezirk Eimsbüttel. Dazu 
 gibt's Fahrrad-Codierung als Diebstahlschutz.\nhttps://touren-termine.adf
 c.de/radveranstaltung/126881-adfc-hamburg-beim-buchereck-niendorf-nord
DTEND:20240427T120000Z
DTSTAMP:20260420T232808Z
DTSTART:20240427T080000Z
LOCATION:Nordalbingerweg 15\, 22455 Hamburg
SEQUENCE:0
SUMMARY:ADFC Hamburg beim Büchereck Niendorf Nord
UID:edb3bdbf-ad30-452d-bd62-669a59238111
URL:https://touren-termine.adfc.de/radveranstaltung/126881-adfc-hamburg-be
 im-buchereck-niendorf-nord
END:VEVENT
END:VCALENDAR
