BEGIN:VCALENDAR
PRODID:-//github.com/rianjs/ical.net//NONSGML ical.net 4.0//EN
VERSION:2.0
BEGIN:VEVENT
DESCRIPTION:Wir fahren  zu der Gedenkveranstaltung für Andreas Mandalka - 
 "Natenom" .\nhttps://touren-termine.adfc.de/radveranstaltung/148955-naten
 omgedenkfahrt
DTEND:20250202T160000Z
DTSTAMP:20260424T143441Z
DTSTART:20250202T070000Z
LOCATION:Wiener Platz\, 70469 Stuttgart
SEQUENCE:0
SUMMARY:Natenom-Gedenkfahrt
UID:f55c14b2-b885-48f3-83f4-09397c830788
URL:https://touren-termine.adfc.de/radveranstaltung/148955-natenomgedenkfa
 hrt
END:VEVENT
END:VCALENDAR
