BEGIN:VCALENDAR
PRODID:-//github.com/rianjs/ical.net//NONSGML ical.net 4.0//EN
VERSION:2.0
BEGIN:VEVENT
DESCRIPTION:DIE kostenfreie Zubringer Tour zur Expressroute der Sternfahrt
  ab Frankfurt Oder (am 7.6.26). Erst quer durch die Stadt\, dann über Erk
 ner\, Fürstenwalde und bei schönem Wetter über Müllrose nach FFO.\nhttps:
 //touren-termine.adfc.de/radveranstaltung/180213-ab-zur-sternfahrt-nach-f
 rankfurt-oder
DTEND:20260606T160000Z
DTSTAMP:20260424T190300Z
DTSTART:20260606T073000Z
LOCATION:Bhf. Berlin-Charlottenburg\, Ausg. Stuttgarter Platz\, 10627 Berl
 in
SEQUENCE:0
SUMMARY:Ab zur Sternfahrt nach Frankfurt\, Oder?!
UID:a08fcf84-5cc1-446a-9751-5cf78dbb76a1
URL:https://touren-termine.adfc.de/radveranstaltung/180213-ab-zur-sternfah
 rt-nach-frankfurt-oder
END:VEVENT
END:VCALENDAR
