BEGIN:VCALENDAR
PRODID:-//github.com/rianjs/ical.net//NONSGML ical.net 4.0//EN
VERSION:2.0
BEGIN:VEVENT
DESCRIPTION:Mit der Möglichkeit\, die Bayrische Landesausstellung 2024 "Ta
 ssilo\, Korbinian und der Bär - Bayern im frühen Mittelalter" zu besuchen
 \nhttps://touren-termine.adfc.de/radveranstaltung/124180-diozisanmuseum-f
 reising
DTEND:20240720T150000Z
DTSTAMP:20260421T100722Z
DTSTART:20240720T080000Z
LOCATION:Bike & Ride Fahrradparkhaus\, 85221 Dachau
SEQUENCE:0
SUMMARY:Diözisanmuseum Freising
UID:67c6d707-2b2f-40a4-a18e-75db2d8c65dc
URL:https://touren-termine.adfc.de/radveranstaltung/124180-diozisanmuseum-
 freising
END:VEVENT
END:VCALENDAR
