BEGIN:VCALENDAR
PRODID:-//github.com/rianjs/ical.net//NONSGML ical.net 4.0//EN
VERSION:2.0
BEGIN:VEVENT
DESCRIPTION:11. Demo für sicheren Verkehr auf der Marienfelder Allee. Wir 
 fordern einen Radweg und Flächengerechtigkeit für alle Verkehrsteilnehmer
 :innen. Schluss mit der Bevorzugung des motorisierten Verkehrs!\nhttps://
 touren-termine.adfc.de/radveranstaltung/190734-demo-fur-sicheren-verkehr-
 in-marienfelde
DTEND:20260228T143000Z
DTSTAMP:20260424T051111Z
DTSTART:20260228T130000Z
LOCATION:Marienfelder Allee 107/109\, vor der Bibliothek Marienfelde\, 122
 77 Berlin
SEQUENCE:0
SUMMARY:Demo für sicheren Verkehr in Marienfelde
UID:84099ab5-e15c-46c2-896a-e9718ce7e0ca
URL:https://touren-termine.adfc.de/radveranstaltung/190734-demo-fur-sicher
 en-verkehr-in-marienfelde
END:VEVENT
END:VCALENDAR
