BEGIN:VCALENDAR
PRODID:-//github.com/rianjs/ical.net//NONSGML ical.net 4.0//EN
VERSION:2.0
BEGIN:VEVENT
DESCRIPTION:30 - 40 km\nhttps://touren-termine.adfc.de/radveranstaltung/94
 812-kurztour-18oo-203o
DTEND:20230607T180000Z
DTSTAMP:20260423T183750Z
DTSTART:20230607T160000Z
LOCATION:Rathausplatz 3\, 30938 Großburgwedel
SEQUENCE:0
SUMMARY:Kurztour 18.oo - 20.3o
UID:3685b0a2-9d24-4062-b51b-eafd60f3aa64
URL:https://touren-termine.adfc.de/radveranstaltung/94812-kurztour-18oo-20
 3o
END:VEVENT
END:VCALENDAR
