BEGIN:VCALENDAR
PRODID:-//github.com/rianjs/ical.net//NONSGML ical.net 4.0//EN
VERSION:2.0
BEGIN:VEVENT
DESCRIPTION:Stadtradeln 2025 (SR25) 20 x 20 km\nTour 14 von 20\nhttps://to
 uren-termine.adfc.de/radveranstaltung/165815-sr25t1422km-16001800-uhr
DTEND:20250601T160000Z
DTSTAMP:20260423T183844Z
DTSTART:20250601T140000Z
LOCATION:Fuhrberger Straße 4\, 30938 Burgwedel
SEQUENCE:0
SUMMARY:SR25-T14_22_km 16:00-18:00 Uhr
UID:7a2fce3d-7ced-48f8-91ce-f08d47a03459
URL:https://touren-termine.adfc.de/radveranstaltung/165815-sr25t1422km-160
 01800-uhr
END:VEVENT
END:VCALENDAR
