BEGIN:VCALENDAR
PRODID:-//github.com/rianjs/ical.net//NONSGML ical.net 4.0//EN
VERSION:2.0
BEGIN:VEVENT
DESCRIPTION:Stammtisch zum Austausch für Mitglieder - auch Rad-Interessier
 te sind herzlich willkommen. \n\nDieses Mal sind wir im Kelterhaus der We
 inbiet-Manufaktur\, An der Eselshaut 32\, 67435 Neustadt-Mußbach\nhttps:/
 /touren-termine.adfc.de/radveranstaltung/171663-stammtisch-adfc-neustadt-
 hassloch-25092025
DTEND:20250925T190000Z
DTSTAMP:20260425T173145Z
DTSTART:20250925T160000Z
LOCATION:An der Eselshaut 32\, 67435 Neustadt an der Weinstraße
SEQUENCE:0
SUMMARY:Stammtisch ADFC Neustadt / Haßloch - 25.09.2025
UID:b5594f06-ba32-4e25-bc46-e4e66bbd1f85
URL:https://touren-termine.adfc.de/radveranstaltung/171663-stammtisch-adfc
 -neustadt-hassloch-25092025
END:VEVENT
END:VCALENDAR
