BEGIN:VCALENDAR
PRODID:-//github.com/rianjs/ical.net//NONSGML ical.net 4.0//EN
VERSION:2.0
BEGIN:VEVENT
DESCRIPTION:Die Bürgermeisterin und die ADFC-Ortsgruppe laden alle interes
 sierten Radler*innen zu einer informativen und unterhaltsamen Radtour dur
 ch Oranienburg ein.\nhttps://touren-termine.adfc.de/radveranstaltung/1927
 72-oranienburg-radelt-mit-der-burgermeisterin
DTEND:20260425T140000Z
DTSTAMP:20260425T201447Z
DTSTART:20260425T080000Z
LOCATION:Schlossplatz\, 16515 Oranienburg
SEQUENCE:0
SUMMARY:Oranienburg radelt mit der Bürgermeisterin
UID:4faaad6a-119f-4f30-af12-833333b54be1
URL:https://touren-termine.adfc.de/radveranstaltung/192772-oranienburg-rad
 elt-mit-der-burgermeisterin
END:VEVENT
END:VCALENDAR
